Workbook

Sheet チェックシート
B1: 居宅介護支援費の算定に係る特定事業所集中減算チェックシート（提出用 兼 保存用） | T1: 提出先： | V1: fukushi02@town.daigo.lg.jp
L2: 令和 | N2: 年 | P2: 月 | R2: 日
C3: 大子町長 様 | T3: 水色のセルのみ入力してください。
B4: 事業所名
B6: 判定期間 | E6: 令和 | G6: 年度 | K6: 前期 | L6: 3月 | M6: 4月 | N6: 5月 | O6: 6月 | P6: 7月 | Q6: 8月 | R6: 計
K7: 後期 | L7: 9月 | M7: 10月 | N7: 11月 | O7: 12月 | P7: 1月 | Q7: 2月
B8: ①居宅サービス計画の総数 | R8: =SUM(L8:Q8) -> 0
B9: 訪問介護 | C9: ②訪問介護を位置付けた居宅サービス計画数 | R9: =SUM(L9:Q9) -> 0 | S9: A
C10: ③紹介率最高法人を位置付けた居宅サービス計画数 | R10: =SUM(L10:Q10) -> 0 | S10: B
C11: 紹介率 最高法人 | E11: 法人名 | H11: =IFERROR(VLOOKUP(R13,リスト!$A$2:$G$10000,2,FALSE),"") | U11: 事業所名1と事業所名2は、紹介率最高法人が運営する別事業所を記載します。
E12: 所在地 | H12: =IFERROR(VLOOKUP(R13,リスト!$A$2:$G$10000,3,FALSE),"")
E13: 事業所名1 | H13: =IFERROR(VLOOKUP(R13,リスト!$A$2:$G$10000,5,FALSE),"") | O13: （事業所番号） | U13: 当該法人が運営する事業所が1つしかない場合は、事業所名2は空欄にしてください。
E14: 事業所名2 | H14: =IFERROR(VLOOKUP(R14,リスト!$A$2:$G$10000,5,FALSE),"") | O14: （事業所番号）
C15: ④割合（B/A） | R15: =IFERROR(R10/R9,0) -> 0 | T15: =IF(R15>0.8,"←80%を超えていますので、チェックシートを提出してください","")
C16: ⑤80％を超えている場合の理由((1)～(7)のいずれかを選択） | Q16: 番号 | U16: 次の⑴～⑺から選択してください（複数該当する場合もいずれか一つ）。
C17: ⑥(6)のうち地域ケア会議等で助言を受けており除外できる件数 | Q17: 件数 | V17: 番号 | W17: 理由 | X17: 添付書類
N18: 除外後の割合 | R18: =IFERROR((R10-R17)/R9,"") | V18: ⑴ | W18: サービスが5事業所未満 | X18: 不要
B19: 通所介護 | C19: ②通所介護を位置付けた居宅サービス計画数 | R19: =SUM(L19:Q19) -> 0 | S19: C | V19: ⑵ | W19: 特別地域加算を受けている | X19: 不要
C20: ③紹介率最高法人を位置付けた居宅サービス計画数 | R20: =SUM(L20:Q20) -> 0 | S20: D | V20: ⑶ | W20: 居宅サービス計画件数が月平均20件以下 | X20: 不要
C21: 紹介率 最高法人 | E21: 法人名 | H21: =IFERROR(VLOOKUP(R23,リスト!$A$2:$G$10000,2,FALSE),"") | V21: ⑷ | W21: 各サービスが位置付けられた計画件数が月平均10件以下 | X21: 不要
E22: 所在地 | H22: =IFERROR(VLOOKUP(R23,リスト!$A$2:$G$10000,3,FALSE),"") | V22: ⑸ | W22: サービスの質が高いことによる利用者の希望を勘案 | X22: 地域ケア会議等で意見・助言を受けた計画に係る概要書
E23: 事業所名1 | H23: =IFERROR(VLOOKUP(R23,リスト!$A$2:$G$10000,5,FALSE),"") | O23: （事業所番号） | V23: ⑹ | W23: 判定期間中に新規指定を受けた | X23: 不要
E24: 事業所名2 | H24: =IFERROR(VLOOKUP(R24,リスト!$A$2:$G$10000,5,FALSE),"") | O24: （事業所番号） | V24: ⑺ | W24: 判定期間中に休止した | X24: 不要
C25: ④割合（D/C） | R25: =IFERROR(R20/R19,0) -> 0 | T25: =IF(R25>0.8,"←80%を超えていますので、チェックシートを提出してください","")
C26: ⑤80％を超えている場合の理由((1)～(7)のいずれかを選択） | Q26: 番号 | V26: 特定事業所集中減算に係る主なQ＆A
C27: ⑥(6)のうち地域ケア会議等で助言を受けており除外できる件数 | Q27: 件数
N28: 除外後の割合 | R28: =IFERROR((R20-R27)/R19,"") | V28: 質問：正当な理由に該当するため、「チェックシート」の提出は不要か。
B29: 福祉用具貸与 | C29: ②福祉用具貸与を位置付けた居宅サービス計画数 | R29: =SUM(L29:Q29) -> 0 | S29: E | V29: 回答：正当な理由該当の有無は、「チェックシート」により指定権者が判断するため、提出
C30: ③紹介率最高法人を位置付けた居宅サービス計画数 | R30: =SUM(L30:Q30) -> 0 | S30: F | V30: が必要です。
C31: 紹介率 最高法人 | E31: 法人名 | H31: =IFERROR(VLOOKUP(R33,リスト!$A$2:$G$10000,2,FALSE),"")
E32: 所在地 | H32: =IFERROR(VLOOKUP(R33,リスト!$A$2:$G$10000,3,FALSE),"") | V32: 質問：紹介率の計算は、事業所ごとに行うのか。
E33: 事業所名1 | H33: =IFERROR(VLOOKUP(R33,リスト!$A$2:$G$10000,5,FALSE),"") | O33: （事業所番号） | V33: 回答：事業所ごとではなく、法人ごとに計算します。異なる事業所であったとしても、運営法人が同一の場合、合算して計算します。
E34: 事業所名2 | H34: =IFERROR(VLOOKUP(R34,リスト!$A$2:$G$10000,5,FALSE),"") | O34: （事業所番号）
C35: ④割合（F/E） | R35: =IFERROR(R30/R29,0) -> 0 | T35: =IF(R35>0.8,"←80%を超えていますので、チェックシートを提出してください","") | V35: 質問：「チェックシート」への記載に、介護予防サービスは含めるのか。
C36: ⑤80％を超えている場合の理由((1)～(7)のいずれかを選択） | Q36: 番号 | V36: 回答：介護サービスのみ該当するため、介護予防サービスは含めません。
C37: ⑥(6)のうち地域ケア会議等で助言を受けており除外できる件数 | Q37: 件数
N38: 除外後の割合 | R38: =IFERROR((R30-R37)/R29,"") | V38: 質問：通所介護と地域密着型通所介護について、「チェックシート」へどのように記載する
B39: 地域密着型通所介護 | C39: ②地域密着型通所介護を位置付けた居宅サービス計画数 | R39: =SUM(L39:Q39) -> 0 | S39: G | V39: のか。
C40: ③紹介率最高法人を位置付けた居宅サービス計画数 | R40: =SUM(L40:Q40) -> 0 | S40: H | V40: 回答：厚生労働省からの通知により、平成30年度以降も、どちらか一方、又は、合算して
C41: 紹介率 最高法人 | E41: 法人名 | H41: =IFERROR(VLOOKUP(R43,リスト!$A$2:$G$10000,2,FALSE),"") | V41: の記載となります。
...

Sheet リスト
A1: 介護保険事業所番号 | B1: 申請者-法人名 | C1: 申請者-所在地 | D1: 代表者-氏名 | E1: 事業所-名称 | F1: 事業所-所在地 | G1: ｻｰﾋﾞｽ種類
A2: 0870100112 | B2: 有限会社 ほっと水戸 | C2: 茨城県水戸市見川町2131-1 | D2: 佐藤 育子 | E2: 有限会社 ほっと水戸 | F2: 茨城県水戸市見川町2131-1 | G2: 訪問介護
A3: 0870100120 | B3: 公益社団法人 水戸市シルバー人材センター | C3: 茨城県水戸市大塚町1863-169 | D3: 加倉井 健一 | E3: 公益社団法人水戸市シルバー人材センター介護保険事業所 | F3: 茨城県水戸市大塚町1863-169 | G3: 訪問介護
A4: 0870100211 | B4: 株式会社 テンダーケアジャパン | C4: 茨城県水戸市笠原町1375-1 | D4: 鳴坂 淳 | E4: 訪問介護 ヘルパーコール | F4: 茨城県水戸市笠原町1375-1 | G4: 訪問介護
A5: 0870100237 | B5: 株式会社 ヤマシタ | C5: 静岡県島田市中河737 | D5: 山下 和洋 | E5: 株式会社 ヤマシタ 茨城営業所 | F5: 茨城県水戸市青柳町4262-2 | G5: 福祉用具貸与
A6: 0870100245 | B6: 株式会社 ケア・ファクトリー | C6: 茨城県水戸市見和1-298-7 | D6: 能本守康 | E6: 株式会社 ケアファクトリー 在宅介護事業部 | F6: 茨城県水戸市見和1-298-7 | G6: 訪問介護
A7: 0870100252 | B7: 株式会社 ミカ | C7: 茨城県水戸市河和田町3330-10 | D7: 照山 充子 | E7: 株式会社 ミカ | F7: 茨城県水戸市河和田町3330-10 | G7: 福祉用具貸与
A8: 0870100278 | B8: ウエルシア介護サービス 株式会社 | C8: 茨城県つくば市稲荷前8-1布川ビル2階 | D8: 松沼 哲哉 | E8: ウエルシア介護サービス水戸 | F8: 茨城県水戸市百合が丘町8-3 | G8: 訪問介護
A9: 0870100336 | B9: 株式会社 ツクイ | C9: 神奈川県横浜市港南区上大岡西1-6-1 | D9: 高畠 毅 | E9: ツクイ水戸 | F9: 茨城県水戸市五軒町3-3-45 | G9: 訪問介護
A10: 0870100401 | B10: 社会福祉法人 翠清福祉会 | C10: 茨城県水戸市河和田町4516-1 | D10: 田中 英男 | E10: ヘルパーステーション けやき | F10: 茨城県水戸市酒門町4231-2 | G10: 訪問介護
A11: 0870100419 | B11: 社会福祉法人 翠清福祉会 | C11: 茨城県水戸市河和田町4516-1 | D11: 田中 英男 | E11: ホームヘルパーステーション かたくり | F11: 茨城県水戸市河和田町4510-1 | G11: 訪問介護
A12: 0870100443 | B12: 社会福祉法人 恒勝会 | C12: 茨城県水戸市青柳町3796 | D12: 上田 淳 | E12: ライフピア青柳通所介護事業所 | F12: 茨城県水戸市青柳町3796 | G12: 地域密着型通所介護
... A1336: 0872101332 | B1336: 医療法人 森田記念会 | C1336: 茨城県ひたちなか市高野柏野2455-1 | D1336: 森田 隆 | E1336: ヘルパーステーションプロスペクト | F1336: 茨城県ひたちなか市高野2455-1 | G1336: 訪問介護
A1337: 0872101365 | B1337: 早川汽船 株式会社 | D1337: 八木 公宏 | E1337: デイサービスセンター なぎの木 | F1337: 茨城県ひたちなか市阿字ケ浦町172-19 | G1337: 地域密着型通所介護
A1338: 0872101365 | B1338: 早川汽船 株式会社 | D1338: 八木 公宏 | E1338: デイサービスセンター なぎの木 | F1338: 茨城県ひたちなか市阿字ケ浦町172-19 | G1338: 地域密着型通所介護
A1339: 0872101365 | B1339: 早川汽船 株式会社 | D1339: 八木 公宏 | E1339: デイサービスセンター なぎの木 | F1339: 茨城県ひたちなか市阿字ケ浦町172-19 | G1339: 地域密着型通所介護
A1340: 0872101365 | B1340: 早川汽船 株式会社 | D1340: 八木 公宏 | E1340: デイサービスセンター なぎの木 | F1340: 茨城県ひたちなか市阿字ケ浦町172-19 | G1340: 地域密着型通所介護
A1341: 0872101415 | B1341: 株式会社 ライブコアサポート | C1341: 茨城県ひたちなか市高場1057 | D1341: 海野 ゆき子 | E1341: デイサービスSARA（さら） | F1341: 茨城県ひたちなか市高場2-6-2 | G1341: 地域密着型通所介護
A1342: 0872101415 | B1342: 株式会社 ライブコアサポート | C1342: 茨城県ひたちなか市高場1057 | D1342: 海野 ゆき子 | E1342: デイサービスSARA（さら） | F1342: 茨城県ひたちなか市高場2-6-2 | G1342: 地域密着型通所介護
A1343: 0872101415 | B1343: 株式会社 ライブコアサポート | C1343: 茨城県ひたちなか市高場2-18-7 | D1343: 海野 ゆき子 | E1343: デイサービスSARA（さら） | F1343: 茨城県ひたちなか市高場2-6-2 | G1343: 地域密着型通所介護
A1344: 0872101449 | B1344: 株式会社 ハナワ | C1344: 茨城県ひたちなか市三反田5098 | D1344: 塙 宗徳 | E1344: あからデイサービス三反田 | F1344: 茨城県ひたちなか市三反田5196 | G1344: 地域密着型通所介護
A1345: 0872101449 | B1345: 株式会社 ハナワ | C1345: 茨城県ひたちなか市三反田5098 | D1345: 塙 宗徳 | E1345: あからデイサービス三反田 | F1345: 茨城県ひたちなか市三反田5196 | G1345: 地域密着型通所介護
A1346: 0872101449 | B1346: 株式会社 ハナワ | C1346: 茨城県ひたちなか市三反田5098 | D1346: 塙 宗徳 | E1346: あからデイサービス三反田 | F1346: 茨城県ひたちなか市三反田5196 | G1346: 地域密着型通所介護
A1347: 0872101480 | B1347: ハートメディカル介護サービス 株式会社 | C1347: 茨城県ひたちなか市元町2-3 | D1347: 清水 潤一 | E1347: ハート＆アットホームデイサービスみなと | F1347: 茨城県ひたちなか市栄町1-11-9 | G1347: 地域密着型通所介護
A1348: 0872101506 | B1348: 株式会社 ライツ | C1348: 茨城県ひたちなか市高場4-16-11 ｴﾝﾌﾞﾚﾑ103 | D1348: 堀川 智也 | E1348: デイサービス ひかり | F1348: 茨城県ひたちなか市西光地3-4-10 | G1348: 地域密着型通所介護
A1349: 0872101548 | B1349: 医療法人 博仁会 | C1349: 茨城県常陸大宮市上町313 | D1349: 鈴木 邦彦 | E1349: フロイデ総合在宅サポートセンターひたちなか | F1349: 茨城県ひたちなか市足崎1474-7 | G1349: 通所介護
A1350: 0872101563 | B1350: 有限会社 清心学園 | C1350: 茨城県ひたちなか市高場1251-1 | D1350: 清水 利春 | E1350: デイサービス オアシス高場 | F1350: 茨城県ひたちなか市高場1595-26 | G1350: 地域密着型通所介護
A1351: 0872101571 | B1351: 有限会社 ソフト・ケア | C1351: 茨城県ひたちなか市馬渡2758-1 | D1351: 川又 民男 | E1351: 本郷の森 デイサービス おひさま館 | F1351: 茨城県ひたちなか市馬渡2758-1 | G1351: 通所介護
A1352: 0872101589 | B1352: 株式会社 キャリアプラス | C1352: 茨城県水戸市元吉田町1542-16 | D1352: 駒橋 達也 | E1352: デイサービス ケアプラス市毛 | F1352: 茨城県ひたちなか市市毛622-23 | G1352: 地域密着型通所介護
... A2273: 0891200172 | B2273: 社会福祉法人 月居会 | C2273: 茨城県常陸太田市亀作町481-1 | D2273: 野内 しづ子 | E2273: デイサービスセンター 世矢の里 | F2273: 茨城県常陸太田市亀作町481-1 | G2273: 地域密着型通所介護
A2274: 0891400053 | B2274: 有限会社 長寿の湯 | C2274: 茨城県日立市東滑川町3-11-17 | E2274: デイサービス山の湯 別館 | F2274: 茨城県高萩市島名1511 | G2274: 地域密着型通所介護
A2275: 0891400061 | B2275: 株式会社 ヒューマンリレーション | C2275: 茨城県高萩市本町3丁目36番地の1 | D2275: 角張 信久 | E2275: デイサービス 高萩ガーデン | F2275: 茨城県高萩市本町3丁目36番地の1 | G2275: 地域密着型通所介護
A2276: 0891500134 | B2276: 株式会社 アーバンアーキテック | C2276: 茨城県ひたちなか市勝田泉町4-17 | D2276: 伊東 鐘賛 | E2276: ご長寿くらぶ北茨城デイサービスセンター | F2276: 茨城県北茨城市平潟町1305-1 | G2276: 地域密着型通所介護
A2277: 0891500134 | B2277: 株式会社 アーバンアーキテック | C2277: 茨城県ひたちなか市勝田泉町4-17 | D2277: 川又 則夫 | E2277: ご長寿くらぶ北茨城デイサービスセンター | F2277: 茨城県北茨城市平潟町1305-1 | G2277: 地域密着型通所介護
A2278: 0891500134 | B2278: 株式会社 アーバンアーキテック | C2278: 茨城県ひたちなか市勝田泉町4-17 | D2278: 川又 則夫 | E2278: ご長寿くらぶ北茨城デイサービスセンター | F2278: 茨城県北茨城市平潟町1305-1 | G2278: 地域密着型通所介護
A2279: 0891500142 | B2279: 株式会社 夢なかま | C2279: 茨城県北茨城市中郷町粟野1205-5 | D2279: 野地 美佐子 | E2279: 夢なかま 趣味のデイ | F2279: 茨城県北茨城市中郷町石岡2577-2 | G2279: 地域密着型通所介護
A2280: 0891500142 | B2280: 株式会社 夢なかま | C2280: 茨城県北茨城市中郷町粟野1205-5 | D2280: 野地 美佐子 | E2280: 夢なかま 趣味のデイ | F2280: 茨城県北茨城市中郷町石岡2577-2 | G2280: 地域密着型通所介護
A2281: 0891500159 | B2281: 株式会社 めいと | C2281: 茨城県北茨城市磯原町磯原4-8 | D2281: 加藤 善路 | E2281: リハビリデイサービス（機能訓練特化型）めいと | F2281: 茨城県北茨城市磯原町磯原4-8 | G2281: 地域密着型通所介護
A2282: 0891500167 | B2282: ダイセン 株式会社 | C2282: 福島県いわき市小名浜岡小名字沖16-6 | D2282: 荒 裕樹 | E2282: だいせんデイサービス磯原 | F2282: 茨城県北茨城市磯原町豊田字下桶仕内280-1 | G2282: 地域密着型通所介護
A2283: 0891500183 | B2283: 株式会社piece of life | C2283: 茨城県北茨城市中郷町下桜井964番地1 | D2283: 菅野 智恵 | E2283: でいさ～びす かいふく | F2283: 茨城県北茨城市中郷町下桜井96番地1 | G2283: 地域密着型通所介護
...
